BEGIN:VCALENDAR
VERSION:2.0
PRODID:-//Nicolas Roudier - ECPv6.15.20//NONSGML v1.0//EN
CALSCALE:GREGORIAN
METHOD:PUBLISH
X-WR-CALNAME:Nicolas Roudier
X-ORIGINAL-URL:https://nicolas-roudier.com
X-WR-CALDESC:Events for Nicolas Roudier
REFRESH-INTERVAL;VALUE=DURATION:PT1H
X-Robots-Tag:noindex
X-PUBLISHED-TTL:PT1H
BEGIN:VTIMEZONE
TZID:Europe/Paris
BEGIN:DAYLIGHT
TZOFFSETFROM:+0100
TZOFFSETTO:+0200
TZNAME:CEST
DTSTART:20190331T010000
END:DAYLIGHT
BEGIN:STANDARD
TZOFFSETFROM:+0200
TZOFFSETTO:+0100
TZNAME:CET
DTSTART:20191027T010000
END:STANDARD
BEGIN:DAYLIGHT
TZOFFSETFROM:+0100
TZOFFSETTO:+0200
TZNAME:CEST
DTSTART:20200329T010000
END:DAYLIGHT
BEGIN:STANDARD
TZOFFSETFROM:+0200
TZOFFSETTO:+0100
TZNAME:CET
DTSTART:20201025T010000
END:STANDARD
BEGIN:DAYLIGHT
TZOFFSETFROM:+0100
TZOFFSETTO:+0200
TZNAME:CEST
DTSTART:20210328T010000
END:DAYLIGHT
BEGIN:STANDARD
TZOFFSETFROM:+0200
TZOFFSETTO:+0100
TZNAME:CET
DTSTART:20211031T010000
END:STANDARD
END:VTIMEZONE
BEGIN:VEVENT
DTSTART;TZID=Europe/Paris:20201011T201500
DTEND;TZID=Europe/Paris:20201011T214500
DTSTAMP:20260419T160804
CREATED:20211226T130902Z
LAST-MODIFIED:20211226T130903Z
UID:985-1602447300-1602452700@nicolas-roudier.com
SUMMARY:Freiburger Barockorchester : Beethoven's Leonore - Freiburg
DESCRIPTION:Germany tour with Freiburger Barockorchester playing Beethoven’s Leonore under the baton of René Jacobs.
URL:https://nicolas-roudier.com/agenda/freiburger-barockorchester-beethovens-leonore-freiburg/
LOCATION:Konzerthaus Freiburg\, Freiburg\, Germany
END:VEVENT
BEGIN:VEVENT
DTSTART;TZID=Europe/Paris:20201013T200000
DTEND;TZID=Europe/Paris:20201013T213000
DTSTAMP:20260419T160804
CREATED:20211226T131509Z
LAST-MODIFIED:20211226T131509Z
UID:991-1602619200-1602624600@nicolas-roudier.com
SUMMARY:Freiburger Barockorchester : Beethoven's Leonore - Berlin
DESCRIPTION:Germany tour with Freiburger Barockorchester playing Beethoven’s Leonore under the baton of René Jacobs.
URL:https://nicolas-roudier.com/agenda/freiburger-barockorchester-beethovens-leonore-berlin/
LOCATION:Berliner Philharmonie – Grosser Saal\, Berlin\, Germany
END:VEVENT
BEGIN:VEVENT
DTSTART;TZID=Europe/Paris:20201014T200000
DTEND;TZID=Europe/Paris:20201014T213000
DTSTAMP:20260419T160804
CREATED:20211226T131910Z
LAST-MODIFIED:20211226T131911Z
UID:996-1602705600-1602711000@nicolas-roudier.com
SUMMARY:Freiburger Barockorchester : Beethoven's Leonore - Hamburg 1
DESCRIPTION:Germany tour with Freiburger Barockorchester playing Beethoven’s Leonore under the baton of René Jacobs.
URL:https://nicolas-roudier.com/agenda/freiburger-barockorchester-beethovens-leonore-hamburg-1/
LOCATION:Elbphilharmonie – Großer Saal\, Hamburg\, Germany
END:VEVENT
BEGIN:VEVENT
DTSTART;TZID=Europe/Paris:20201016T200000
DTEND;TZID=Europe/Paris:20201016T213000
DTSTAMP:20260419T160804
CREATED:20211226T132317Z
LAST-MODIFIED:20211226T132319Z
UID:1000-1602878400-1602883800@nicolas-roudier.com
SUMMARY:Freiburger Barockorchester : Beethoven's Leonore - Hamburg 2
DESCRIPTION:Germany tour with Freiburger Barockorchester playing Beethoven’s Leonore under the baton of René Jacobs.
URL:https://nicolas-roudier.com/agenda/freiburger-barockorchester-beethovens-leonore-hamburg-2/
LOCATION:Elbphilharmonie – Großer Saal\, Hamburg\, Germany
END:VEVENT
END:VCALENDAR